View In:
ArcGIS JavaScript
ArcGIS Online Map Viewer
ArcGIS Earth
Service Description: Tanzania mangroves - canopy height
Name: Tanzania_Forest/Mangrove_hmax95_Tanzania
Description: Tanzania mangroves - canopy height
Single Fused Map Cache: false
Extent:
XMin: 4262009.861931417
YMin: -1212724.85589125
XMax: 4525744.288869359
YMax: -502121.6040440313
Spatial Reference: 102100
(3857)
LatestVCSWkid(0)
Initial Extent:
XMin: 4262009.861931417
YMin: -1212724.85589125
XMax: 4525744.288869359
YMax: -502121.6040440313
Spatial Reference: 102100
(3857)
LatestVCSWkid(0)
Full Extent:
XMin: 4262009.861931417
YMin: -1212724.85589125
XMax: 4525744.288869359
YMax: -502121.6040440313
Spatial Reference: 102100
(3857)
LatestVCSWkid(0)
Pixel Size X: 30.92208077593406
Pixel Size Y: 30.922080775934052
Band Count: 1
Pixel Type: F32
RasterFunction Infos: {"rasterFunctionInfos": [{
"name": "None",
"description": "",
"help": ""
}]}
Mensuration Capabilities: Basic
Inspection Capabilities:
Has Histograms: true
Has Colormap: false
Has Multi Dimensions : false
Rendering Rule:
Min Scale: 5.91657527591555E8
Max Scale: 36111.909643
Min LOD: 0
Max LOD: 14
Copyright Text: NASA
Service Data Type: esriImageServiceDataTypeGeneric
Min Values: 0.84850001335144
Max Values: 28.849000930786
Mean Values: 16.097286178876
Standard Deviation Values: 6.8085823254858
Object ID Field:
Fields:
None
Default Mosaic Method: Center
Allowed Mosaic Methods:
SortField:
SortValue: null
Mosaic Operator: First
Default Compression Quality: 75
Default Resampling Method: Bilinear
Max Record Count: null
Max Image Height: 4100
Max Image Width: 15000
Max Download Image Count: null
Max Mosaic Image Count: null
Allow Raster Function: true
Allow Copy: true
Allow Analysis: true
Allow Compute TiePoints: false
Supports Statistics: false
Supports Advanced Queries: false
Use StandardizedQueries: true
Raster Type Infos:
Name: Raster Dataset
Description: Supports all ArcGIS Raster Datasets
Help:
Has Raster Attribute Table: false
Edit Fields Info: null
Ownership Based AccessControl For Rasters: null
Child Resources:
Info
Histograms
Statistics
Key Properties
Legend
Raster Function Infos
Supported Operations:
Export Image
Identify
Measure
Compute Histograms
Compute Statistics Histograms
Get Samples
Compute Class Statistics
Query Boundary
Compute Pixel Location
Compute Angles
Validate
Project