View In:
ArcGIS JavaScript
ArcGIS Online Map Viewer
ArcGIS Earth
Service Description: Congo_Geospatial_Project/Congo_Basin_Condition
Name: Congo_Geospatial_Project/Congo_Basin_Condition
Description:
Single Fused Map Cache: false
Extent:
XMin: 623652.6332485974
YMin: -1511841.127121948
XMax: 3484952.6332485974
YMax: 1468658.872878052
Spatial Reference: 102100
(3857)
LatestVCSWkid(0)
Initial Extent:
XMin: 623652.6332485974
YMin: -1511841.127121948
XMax: 3484952.6332485974
YMax: 1468658.872878052
Spatial Reference: 102100
(3857)
LatestVCSWkid(0)
Full Extent:
XMin: 623652.6332485974
YMin: -1511841.127121948
XMax: 3484952.6332485974
YMax: 1468658.872878052
Spatial Reference: 102100
(3857)
LatestVCSWkid(0)
Pixel Size X: 100.0
Pixel Size Y: 100.0
Band Count: 1
Pixel Type: U16
RasterFunction Infos: {"rasterFunctionInfos": [{
"name": "None",
"description": "",
"help": ""
}]}
Mensuration Capabilities: Basic
Inspection Capabilities:
Has Histograms: true
Has Colormap: false
Has Multi Dimensions : false
Rendering Rule:
Min Scale: 0
Max Scale: 0
Copyright Text:
Service Data Type: esriImageServiceDataTypeGeneric
Min Values: 0
Max Values: 100
Mean Values: 72.71556566015916
Standard Deviation Values: 39.301011176402234
Object ID Field:
Fields:
None
Default Mosaic Method: Center
Allowed Mosaic Methods:
SortField:
SortValue: null
Mosaic Operator: First
Default Compression Quality: 75
Default Resampling Method: Bilinear
Max Record Count: null
Max Image Height: 4100
Max Image Width: 15000
Max Download Image Count: null
Max Mosaic Image Count: null
Allow Raster Function: true
Allow Copy: true
Allow Analysis: true
Allow Compute TiePoints: false
Supports Statistics: false
Supports Advanced Queries: false
Use StandardizedQueries: true
Raster Type Infos:
Name: Raster Dataset
Description: Supports all ArcGIS Raster Datasets
Help:
Has Raster Attribute Table: true
Edit Fields Info: null
Ownership Based AccessControl For Rasters: null
Child Resources:
Info
Raster Attribute Table
Histograms
Statistics
Key Properties
Legend
Raster Function Infos
Supported Operations:
Export Image
Identify
Measure
Compute Histograms
Compute Statistics Histograms
Get Samples
Compute Class Statistics
Query Boundary
Compute Pixel Location
Compute Angles
Validate
Project